BEGIN:VCALENDAR
VERSION:2.0
PRODID:-//Računalniške novice - ECPv5.11.0//NONSGML v1.0//EN
CALSCALE:GREGORIAN
METHOD:PUBLISH
X-ORIGINAL-URL:https://racunalniske-novice.com
X-WR-CALDESC:Events for Računalniške novice
BEGIN:VTIMEZONE
TZID:Europe/Ljubljana
BEGIN:DAYLIGHT
TZOFFSETFROM:+0100
TZOFFSETTO:+0200
TZNAME:CEST
DTSTART:20250330T010000
END:DAYLIGHT
BEGIN:STANDARD
TZOFFSETFROM:+0200
TZOFFSETTO:+0100
TZNAME:CET
DTSTART:20251026T010000
END:STANDARD
END:VTIMEZONE
BEGIN:VEVENT
DTSTART;TZID=Europe/Ljubljana:20250306T090000
DTEND;TZID=Europe/Ljubljana:20250306T150000
DTSTAMP:20260422T051444
CREATED:20250210T144036Z
LAST-MODIFIED:20250211T075727Z
UID:2573664-1741251600-1741273200@racunalniske-novice.com
SUMMARY:Ženske za zeleno energijo ’25
DESCRIPTION:Dogodek Ženske za zeleno energijo ’25 združuje vodilne strokovnjakinje in strokovnjake s področja energetike\, trajnostnega razvoja in ESG v ključnem času\, ko sta raznolikost in vključevanje ključna dejavnika za uspeh zelenega prehoda. Udeleženci bodo pridobili vpogled v najnovejše trende\, izzive in priložnosti na področju zelena prehoda ter odkrivali učinkovite strategije za trajnostno rast in inovacije. Dogodek bo potekal v živo in v slovenskem jeziku. \nDeli z drugimi:
URL:https://racunalniske-novice.com/dogodek/zenske-za-zeleno-energijo-25/
LOCATION:Kristalna palača\, Ameriška ulica 8\, Ljubljana\, 1000\, Slovenija
CATEGORIES:Dogodki
ATTACH;FMTTYPE=image/png:https://racunalniske-novice.com/wp-content/uploads/2025/02/468-240-banner-for-novice.png
ORGANIZER;CN="Prosperia%2C%20d.%20o.%20o.":MAILTO:info@prosperia.si
END:VEVENT
END:VCALENDAR