BEGIN:VCALENDAR
VERSION:2.0
PRODID:-//Računalniške novice - ECPv5.11.0//NONSGML v1.0//EN
CALSCALE:GREGORIAN
METHOD:PUBLISH
X-ORIGINAL-URL:https://racunalniske-novice.com
X-WR-CALDESC:Events for Računalniške novice
BEGIN:VTIMEZONE
TZID:Europe/Ljubljana
BEGIN:DAYLIGHT
TZOFFSETFROM:+0100
TZOFFSETTO:+0200
TZNAME:CEST
DTSTART:20240331T010000
END:DAYLIGHT
BEGIN:STANDARD
TZOFFSETFROM:+0200
TZOFFSETTO:+0100
TZNAME:CET
DTSTART:20241027T010000
END:STANDARD
END:VTIMEZONE
BEGIN:VEVENT
DTSTART;TZID=Europe/Ljubljana:20240307T090000
DTEND;TZID=Europe/Ljubljana:20240308T153000
DTSTAMP:20260422T030435
CREATED:20231221T111044Z
LAST-MODIFIED:20240305T074302Z
UID:2491105-1709802000-1709911800@racunalniske-novice.com
SUMMARY:Zdravstveni razvojni forum
DESCRIPTION:V zadnjih desetih letih smo izpustili številne priložnosti za izboljšanje našega zdravstvenega sistema. Ob relativno počasnem odzivu politike na aktualno zdravstveno problematiko in naraščajočih potrebah starajočega se prebivalstva se poraja vprašanje\, kako naprej. Predvsem nas zanima\, kako organizirati zdravstveno dejavnost\, da bomo iz obstoječih kadrovskih potencialov in opreme ustvarili največ in najkakovostnejše storitve za naše državljane. Poskušamo z normativi\, standardizacijami in neskončnim izračunavanjem efektivnih in neefektivnih minut ter sekund zdravstvenega osebja\, vendar brez želenih rezultatov. Poskusili smo celo z neomejenim plačevanjem skoraj vsega\, a prav tako brez pravih rezultatov. \nZdi se\, da se\, razmišljajoč o rešitvah\, vedno znova znajdemo na križišču. Na eni strani je pot\, ki temelji na izginjajočem zaupanju\, vse večjem nadzoru in ugašanju samoiniciative\, kar nekatere spominja na drsenje nazaj v državno zdravstvo. Druga\, manj uhojena pot\, vodi k samostojnosti javnih zavodov in njihovih uprav\, proti zmanjševanju neposredne odvisnosti od ministrstva in plačnika ter k sproščanju zavor za dodatne oblike dela\, kar pa druge spominja na zasebno zdravstvo z vsemi njegovimi slabostmi. Katero pot bomo ubrali? Tisto varno ali tisto manj uhojeno\, kot jo je opisal Robert Frost v svoji pesmi “The Road Not Taken“\, kjer pravi:”I took the one less traveled by\, And that has made all the difference.” \nPoziv\, da se odpravimo z uhojene poti in utremo novo\, postaja vse glasnejši\, in ukrepanje je nujno. Naša moč za oblikovanje sprememb ne izvira iz odločitev v materialnem svetu\, ampak iz sposobnosti uma\, da preteklost oblikuje v določeno zgodbo. Imamo srce\, pogum in um\, zato smo kot snovalci programa izbrali nov pristop\, da skupaj z vašo interaktivno vlogo izberemo neuhojeno pot v poznojesenskem gozdu\, kjer so mnoge poti že prekrite s temno porjavelimi listi. \nJe končno prišel čas za zdravstveno pomlad? \nIzgubljeni čas lahko nadoknadimo samo s hitrejšim ravnanjem in odločanjem. Izhodišče za odločitve mora biti solidarnost\, pravičnost ter ljubezen in sočutje do sočloveka\, ob jasnem zavedanju soodgovornosti vsakega posameznika za zdravstveni sistem. Pred nami je izziv\, kako vzpostaviti sistem\, ki bo bolj prilagodljiv\, bolj odziven in bolj osredotočen na potrebe pacientov\, ne da bi pri tem žrtvovali našo predanost kakovosti in enakosti dostopa do zdravstvenih storitev. \nPridružite se na tradicionalnem Zdravstveno razvojnem forumu 2024\, kjer se zbere več kot 150 udeležencev. Letos bo forum 7. in 8. marca 2024 v Grand Hotelu Bernardin\, Portorož. \nDeli z drugimi:
URL:https://racunalniske-novice.com/dogodek/zdravstveni-razvojni-forum/
LOCATION:Grand hotel Bernardin\, Obala 2\, Portorož\, 6320\, Slovenija
CATEGORIES:Dogodki
ATTACH;FMTTYPE=image/jpeg:https://racunalniske-novice.com/wp-content/uploads/2023/12/Zajeta-slika-7.jpg
ORGANIZER;CN="PLANET%20GV%20d.o.o.":MAILTO:izobrazevanje@planetgv.si
END:VEVENT
END:VCALENDAR