BEGIN:VCALENDAR
VERSION:2.0
PRODID:-//Računalniške novice - ECPv5.11.0//NONSGML v1.0//EN
CALSCALE:GREGORIAN
METHOD:PUBLISH
X-ORIGINAL-URL:https://racunalniske-novice.com
X-WR-CALDESC:Events for Računalniške novice
BEGIN:VTIMEZONE
TZID:Europe/Ljubljana
BEGIN:DAYLIGHT
TZOFFSETFROM:+0100
TZOFFSETTO:+0200
TZNAME:CEST
DTSTART:20240331T010000
END:DAYLIGHT
BEGIN:STANDARD
TZOFFSETFROM:+0200
TZOFFSETTO:+0100
TZNAME:CET
DTSTART:20241027T010000
END:STANDARD
END:VTIMEZONE
BEGIN:VEVENT
DTSTART;TZID=Europe/Ljubljana:20240411T080000
DTEND;TZID=Europe/Ljubljana:20240411T163000
DTSTAMP:20260424T134519
CREATED:20231127T111514Z
LAST-MODIFIED:20240328T125601Z
UID:2485860-1712822400-1712853000@racunalniske-novice.com
SUMMARY:ZAUH 2024
DESCRIPTION:Na letošnji 15. konferenci ZAUH bomo osrednjo pozornost namenili normativnim ter organizacijskim in tehnološko – tehničnim vprašanjem uporabe\, zajema\, upravljanja in hrambe digitalnih gradiv v poslovnih okoljih\, podprtih z mobilnimi in »oblačnimi« informacijskimi tehnologijami. \nV okviru konference nam bodo strokovnjaki iz gospodarstva in javne uprave predstavili odgovore na izzive\, ki jih pred nas postavljajo novi predpisi s področja e-poslovanja in varstva podatkov\, nove tehnologije obravnavanja e-dokumentov\, digitalna prenova poslovnih in upravnih procesov\, ter s tem povezane priložnosti za kakovostnejše\, učinkovitejše\, dostopnejše in varnejše e-storitve. \nV neposrednem stiku s ponudniki se boste seznanili z najnovejšimi rešitvami in storitvami s področja e-poslovanja\, s poudarkom na ustvarjanju\, izmenjavi\, zajemu\, upravljanju in hrambi digitalnih gradiv. Ob tem boste imeli priložnost\, da s številnimi kolegi in kolegicami izmenjate informacije in izkušnje ter dobre prakse\, ki vam bodo v pomoč pri vaših projektih prehoda na e-poslovanje. \nKonferenca ZAUH je vsako leto organizirana v sodelovanju z ARHIVOM REPUBLIKE SLOVENIJE. \nDogodek je BREZPLAČEN za vse končne uporabnike\, ki niso ponudniki IKT ali pravnih ali arhivskih storitev in rešitev.\nV kolikor želite preveriti ali je dogodek za vas brezplačen\, prosim pišite na info@palsit.com.\nV kolikor ste ponudnik storitev\, znaša investicija za 2 vstopnici s 50% popusta 997 EUR + DDV. \nDeli z drugimi:
URL:https://racunalniske-novice.com/dogodek/zauh-2024/
LOCATION:ON – LINE
CATEGORIES:Dogodki
ATTACH;FMTTYPE=image/jpeg:https://racunalniske-novice.com/wp-content/uploads/2023/11/zauh-banner-851x315-2024-002.jpg
ORGANIZER;CN="PALSIT%20d.o.o.":MAILTO:kristina.veliscek@palsit.com
END:VEVENT
END:VCALENDAR