BEGIN:VCALENDAR
VERSION:2.0
PRODID:-//Računalniške novice - ECPv5.11.0//NONSGML v1.0//EN
CALSCALE:GREGORIAN
METHOD:PUBLISH
X-ORIGINAL-URL:https://racunalniske-novice.com
X-WR-CALDESC:Events for Računalniške novice
BEGIN:VTIMEZONE
TZID:Europe/Ljubljana
BEGIN:DAYLIGHT
TZOFFSETFROM:+0100
TZOFFSETTO:+0200
TZNAME:CEST
DTSTART:20230326T010000
END:DAYLIGHT
BEGIN:STANDARD
TZOFFSETFROM:+0200
TZOFFSETTO:+0100
TZNAME:CET
DTSTART:20231029T010000
END:STANDARD
END:VTIMEZONE
BEGIN:VEVENT
DTSTART;TZID=Europe/Ljubljana:20230913T083000
DTEND;TZID=Europe/Ljubljana:20230914T180000
DTSTAMP:20260421T094839
CREATED:20230830T072942Z
LAST-MODIFIED:20230830T073216Z
UID:2463634-1694593800-1694714400@racunalniske-novice.com
SUMMARY:ZaDIHajmo Digitalno
DESCRIPTION:ZaDIHajmo Digitalno je dogodek\, posvečen poglobljenemu razumevanju sveta digitalizacije in njenega izjemnega vpliva na prihodnost poslovanja. V dveh navDIHujočih dneh bomo skupaj raziskovali izkušnje preteklih let ter se osredotočili na ključno vlogo\, ki jo imajo mala in srednja podjetja v našem gospodarstvu. \nPoudarki dogodka: \n\nPredstavitve in diskusije z vodilnimi strokovnjaki s področja digitalizacije.\nPraktični primeri uporabe digitalnih tehnologij v poslovnem okolju.\nRazprave o izzivih in priložnostih\, ki jih prinaša digitalna preobrazba.\nPredstavitev inovativnih rešitev za podporo malim in srednjim podjetjem.\n\nProgram: \nDvodnevna konferenca bo obsegala raznolik program\, ki bo udeležencem omogočil vpogled v najnovejše trende in prakse na področju digitalizacije. Celoten program konference si lahko ogledate na uradni spletni strani konference: https://www.zadihajmo-digitalno.com. \nDeli z drugimi:
URL:https://racunalniske-novice.com/dogodek/zadihajmo-digitalno/
LOCATION:Orehov gaj\, Obrije\, Ljubljana\, 1000\, Slovenija
ATTACH;FMTTYPE=image/jpeg:https://racunalniske-novice.com/wp-content/uploads/2023/08/DIH.jpg
ORGANIZER;CN="DIH%20Slovenije":MAILTO:info@dihslovenia.si
END:VEVENT
END:VCALENDAR