BEGIN:VCALENDAR
VERSION:2.0
PRODID:-//Računalniške novice - ECPv5.11.0//NONSGML v1.0//EN
CALSCALE:GREGORIAN
METHOD:PUBLISH
X-ORIGINAL-URL:https://racunalniske-novice.com
X-WR-CALDESC:Events for Računalniške novice
BEGIN:VTIMEZONE
TZID:Europe/Ljubljana
BEGIN:DAYLIGHT
TZOFFSETFROM:+0100
TZOFFSETTO:+0200
TZNAME:CEST
DTSTART:20250330T010000
END:DAYLIGHT
BEGIN:STANDARD
TZOFFSETFROM:+0200
TZOFFSETTO:+0100
TZNAME:CET
DTSTART:20251026T010000
END:STANDARD
END:VTIMEZONE
BEGIN:VEVENT
DTSTART;TZID=Europe/Ljubljana:20250529T080000
DTEND;TZID=Europe/Ljubljana:20250530T170000
DTSTAMP:20260422T054129
CREATED:20250219T121720Z
LAST-MODIFIED:20250219T121720Z
UID:2575612-1748505600-1748624400@racunalniske-novice.com
SUMMARY:XXIV. Dnevi delovnega prava in socialne varnosti
DESCRIPTION:Vabimo vas na XXIV. Dneve delovnega prava in socialne varnosti – slovenski kongres strokovnjakov delovnega\, uslužbenskega in socialnega prava ter industrijskih razmerij. Kongresa se tradicionalno udeležuje več kot 400 strokovnjakov iz akademske in sodniške sfere\, državne uprave\, nosilcev socialnih zavarovanj in drugih institucij trga dela\, sindikalnih in delodajalskih organizacij ter pravnih in kadrovskih služb iz podjetij in zavodov. Vrhunski predavatelji\, aktualne teme in možnost izmenjave stališč in dobrih praks na najvišji strokovni ravni\, vas pričakujejo 29. in 30. maja 2025 v Kongresnem centru GH Bernardin.\nProgramske vsebine letošnjega kongresa naslavljajo teme kot so zaposlovanje domačih in tujih delavcev\, pravice in obveznosti ter uporaba umetne inteligence in digitalizacije v delovnih razmerjih\, pravni vidiki sprememb na področju plačnega ter zdravstvenega in pokojninskega sistema ter predstavitev novejše ustavne in sodne prakse.\nPoslanstvo kongresa\, izraženo v sloganu »Dostojno delo in javni sistemi socialne varnosti za vse«\, je skrb za razvoj dostojnih delovnih pogojev in človekovih pravic na področju dela in socialne varnosti\, udejanjanje načel dostojanstva ter pravne in socialne države. Programska zasnova upošteva naslednja izhodišča:\n• Da se sliši stroka.\n• Da se prenaša znanje akademske skupnosti v prakso.\n• Da se spodbuja kritična\, strokovna in neodvisna razprava o aktualnih vprašanjih.\n• Da se spodbuja dialog med teorijo in prakso.\n• Da se zagotavlja strokovna podpora odločevalcem na nacionalni ravni pa tudi v podjetjih\, zavodih\, državni upravi\, socialnim partnerjem\, sodiščem\, inšpekciji dela\, nosilcem socialnih zavarovanj in drugim institucijam\, pomembnim za razvoj pravne in socialne države. \nDeli z drugimi:
URL:https://racunalniske-novice.com/dogodek/xxiv-dnevi-delovnega-prava-in-socialne-varnosti/
LOCATION:Grand hotel Bernardin\, Obala 2\, Portorož\, 6320\, Slovenija
CATEGORIES:Dogodki
ATTACH;FMTTYPE=image/jpeg:https://racunalniske-novice.com/wp-content/uploads/2025/02/Zajeta-slika-7.jpg
ORGANIZER;CN="PLANET%20GV%20d.o.o.":MAILTO:izobrazevanje@planetgv.si
END:VEVENT
END:VCALENDAR