BEGIN:VCALENDAR
VERSION:2.0
PRODID:-//Računalniške novice - ECPv5.11.0//NONSGML v1.0//EN
CALSCALE:GREGORIAN
METHOD:PUBLISH
X-ORIGINAL-URL:https://racunalniske-novice.com
X-WR-CALDESC:Events for Računalniške novice
BEGIN:VTIMEZONE
TZID:Europe/Ljubljana
BEGIN:DAYLIGHT
TZOFFSETFROM:+0100
TZOFFSETTO:+0200
TZNAME:CEST
DTSTART:20230326T010000
END:DAYLIGHT
BEGIN:STANDARD
TZOFFSETFROM:+0200
TZOFFSETTO:+0100
TZNAME:CET
DTSTART:20231029T010000
END:STANDARD
END:VTIMEZONE
BEGIN:VEVENT
DTSTART;VALUE=DATE:20230914
DTEND;VALUE=DATE:20230915
DTSTAMP:20260424T093830
CREATED:20230809T095553Z
LAST-MODIFIED:20230809T095843Z
UID:2269606-1694649600-1694735999@racunalniske-novice.com
SUMMARY:WEBSI DAN
DESCRIPTION:Vabljeni na festival slovenskega digitalnega komuniciranja\, kjer boste spoznali nove trende\, poslovne priložnosti in zanimive zgodbe s področja digitala. Predstavljali vam jih bodo strokovnjaki z raznolikih področij. \nDeli z drugimi:
URL:https://racunalniske-novice.com/dogodek/websi-dan/
LOCATION:Festivalna dvorana Ljubljana\, Vilharjeva cesta 11\, Ljubljana\, 1000\, Slovenija
CATEGORIES:Dogodki
ATTACH;FMTTYPE=image/png:https://racunalniske-novice.com/wp-content/uploads/2023/08/websi_dan_event_fb.png
ORGANIZER;CN="Zavod%20WEBSI":MAILTO:info@websi.si
END:VEVENT
END:VCALENDAR