BEGIN:VCALENDAR
VERSION:2.0
PRODID:-//Računalniške novice - ECPv5.11.0//NONSGML v1.0//EN
CALSCALE:GREGORIAN
METHOD:PUBLISH
X-ORIGINAL-URL:https://racunalniske-novice.com
X-WR-CALDESC:Events for Računalniške novice
BEGIN:VTIMEZONE
TZID:Europe/Ljubljana
BEGIN:DAYLIGHT
TZOFFSETFROM:+0100
TZOFFSETTO:+0200
TZNAME:CEST
DTSTART:20220327T010000
END:DAYLIGHT
BEGIN:STANDARD
TZOFFSETFROM:+0200
TZOFFSETTO:+0100
TZNAME:CET
DTSTART:20221030T010000
END:STANDARD
END:VTIMEZONE
BEGIN:VEVENT
DTSTART;TZID=Europe/Ljubljana:20220919T083000
DTEND;TZID=Europe/Ljubljana:20220922T153000
DTSTAMP:20260421T144930
CREATED:20220608T105059Z
LAST-MODIFIED:20220906T104707Z
UID:1577124-1663576200-1663860600@racunalniske-novice.com
SUMMARY:Tečaj: Kibernetska varnost ICS/OT/IoT okolij
DESCRIPTION:O 4-dnevnem strokovnem izobraževanju:\nMedtem ko so bila industrijska in proizvodna okolja v preteklosti ločena od preostalih poslovnih sistemov oziroma interneta\, danes ni več tako. Sistemi so čedalje bolj povezani in se med seboj zlivajo. S tem so se varnostna tveganja razširila na nekoč izolirana okolja\, ki so tako izpostavljena novim\, resnim varnostnim ranljivostim\, ki zahtevajo drugačen pristop do varnosti. \nVarnostni model v IT okoljih postavlja na prvo mesto zaupnost in prav zaradi tega posvečamo največjo pozornost preprečevanju odtujitve podatkov\, medtem ko so v OT okoljih drugačne prioritete. Tu je varnost delovanja sistema na prvem mestu\, sledijo ji razpoložljivost\, integriteta in zaupnost. \n4-dnevni tečaj je namenjen skrbnikom procesnih sistemov (SCADA)\, skrbnikom centrov vodenja\, procesnim inženirjem\, vodjem služb za nadzorne sisteme\, vodjem proizvodnje oz. proizvodnih obratov\, vodjem služb za obratovanje in vzdrževanje\, vodjem telekomunikacij\, IT ekipam\, ki tesno sodelujejo s tistimi\, ki skrbijo za OT okolje (CISO\, CIO\, varnostni inženir) in seveda vsem\, ki želijo vzpostaviti ali okrepiti kibernetsko varnost v svojem ICS/OT/IoT okoju. \nPreko predavanj in praktičnih vaj prilagojenih vašemu sektorju boste pridobili napredno poznavanje delovanja naprav\, ki se nahajajo v procesnih sistemih v industriji in okoljih kritične infrastrukture\, s poudarkom na razumevanju kibernetske varnosti v teh okoljih\, poznavanju varnostnih ranljivosti in kako učinkovito zaščititi okolje pred zlorabami in hekerskimi napadi za zagotavljanje neprekinjenega delovanja. \nPreverite podrobnejši program tečeja kibernetske varnosti ICS/OT/IoT okolij\, si rezervirajte mesto\, omremite se z novim znanje\, pristopi in rešitvami\, ki vam bodo v pomoč na poti do varnega in neprekinjenega poslovanja\, ter postanite strokovnjak s področja varnosti procesnih sistemov >> PREVERI PROGRAM \nDeli z drugimi:
URL:https://racunalniske-novice.com/dogodek/tecaj-kibernetska-varnost-ics-ot-iot-okolij/
LOCATION:Smart Com d.o.o.\, Brnčičeva ulica 45\, Ljubljana - Črnuče\, 1231\, Slovenija
CATEGORIES:Dogodki
ATTACH;FMTTYPE=image/jpeg:https://racunalniske-novice.com/wp-content/uploads/2022/06/2022_sept_1200x628_tecaj-ot_4dni.jpg
ORGANIZER;CN="Smart%20Com%20d.o.o.":MAILTO:info@smart-com.si
END:VEVENT
END:VCALENDAR