BEGIN:VCALENDAR
VERSION:2.0
PRODID:-//Računalniške novice - ECPv5.11.0//NONSGML v1.0//EN
CALSCALE:GREGORIAN
METHOD:PUBLISH
X-ORIGINAL-URL:https://racunalniske-novice.com
X-WR-CALDESC:Events for Računalniške novice
BEGIN:VTIMEZONE
TZID:Europe/Ljubljana
BEGIN:DAYLIGHT
TZOFFSETFROM:+0100
TZOFFSETTO:+0200
TZNAME:CEST
DTSTART:20230326T010000
END:DAYLIGHT
BEGIN:STANDARD
TZOFFSETFROM:+0200
TZOFFSETTO:+0100
TZNAME:CET
DTSTART:20231029T010000
END:STANDARD
END:VTIMEZONE
BEGIN:VEVENT
DTSTART;TZID=Europe/Ljubljana:20230413T080000
DTEND;TZID=Europe/Ljubljana:20230414T160000
DTSTAMP:20260421T183605
CREATED:20230324T095406Z
LAST-MODIFIED:20230324T095406Z
UID:2241834-1681372800-1681488000@racunalniske-novice.com
SUMMARY:Slovenski kadrovski kongres
DESCRIPTION:#loveHR Summit\, Slovenski kadrovski kongres – osrednji dogodek za vse\, ki živite in ljubite HR\n#loveHR Summit vsako leto združuje več kot 400 kadrovskih managerjev\, odgovornih za izobraževanje in razvoj zaposlenih\, ter drugih HR strokovnjakov v organizacijah javnega in zasebnega sektorja ter nenazadnje vseh #ljubiteljevHR\, ki vas povezuje ljubezen do razvoja\, do stroke in do tkanja novih poslovnih stikov. \n\n\n\n\nLjudje smo utripajoče srce vsake organizacije. Če je nekdaj vrednost organizacije izvirala iz opredmetenih sredstev\, danes ključno sestavino uspeha in največjo vrednost podjetja predstavljajo nematerialne dobrine: zamisli\, odnosi\, znanje\, … Vse\, kar prihaja od ljudi. Hkrati pa imajo danes talenti priložnosti za zaposlitev kot še nikoli\, zato obstaja večje tveganje\, da so vedno na preži za boljšo ponudbo. Kako jih zadržati? \n\n\n\n\nŠtevilne stare prakse za boljše počutje zaposlenih niso več dovolj. Odgovor je v personalizaciji in pravem razumevanju posameznikovih potreb. \n\n\n\n\nZato Tokrat je osebno! Spoznajte nove pristope v razvoju veščin in upravljanja s talenti\, odkrijte\, kako zasnovati sodobno delovno mesto\, ki bo pritegnilo talente in zadovoljilo obstoječe zaposlene\, prisluhnite uveljavljenim kadrovskim strokovnjakom\, kako loviti ravnovesje med generacijami\, ki delo in pripadnost dojemajo drugače. Digitalizirajte posel\, a dešifrirajte ljudi. \n\n\n\n\nPridružite se nam na #LoveHR Summit! Postali boste del zgodbe s tradicijo\, del največjega HR dogodka v slovenskem prostoru. Ne zamudite #LoveHR energije leta! \n\n\nDeli z drugimi:
URL:https://racunalniske-novice.com/dogodek/slovenski-kadrovski-kongres/
LOCATION:Grand hotel Bernardin\, Obala 2\, Portorož\, 6320\, Slovenija
CATEGORIES:Dogodki
ATTACH;FMTTYPE=image/jpeg:https://racunalniske-novice.com/wp-content/uploads/2023/03/Zajeta-slika-1-1.jpg
ORGANIZER;CN="PLANET%20GV%20d.o.o.":MAILTO:izobrazevanje@planetgv.si
END:VEVENT
END:VCALENDAR