BEGIN:VCALENDAR
VERSION:2.0
PRODID:-//Računalniške novice - ECPv5.11.0//NONSGML v1.0//EN
CALSCALE:GREGORIAN
METHOD:PUBLISH
X-ORIGINAL-URL:https://racunalniske-novice.com
X-WR-CALDESC:Events for Računalniške novice
BEGIN:VTIMEZONE
TZID:Europe/Ljubljana
BEGIN:DAYLIGHT
TZOFFSETFROM:+0100
TZOFFSETTO:+0200
TZNAME:CEST
DTSTART:20240331T010000
END:DAYLIGHT
BEGIN:STANDARD
TZOFFSETFROM:+0200
TZOFFSETTO:+0100
TZNAME:CET
DTSTART:20241027T010000
END:STANDARD
END:VTIMEZONE
BEGIN:VEVENT
DTSTART;TZID=Europe/Ljubljana:20241114T080000
DTEND;TZID=Europe/Ljubljana:20241115T160000
DTSTAMP:20260424T103037
CREATED:20231221T105833Z
LAST-MODIFIED:20231221T105833Z
UID:2491077-1731571200-1731686400@racunalniske-novice.com
SUMMARY:Posvet ADMA
DESCRIPTION:Posvet ADMA je edinstvena izkušnja\, ki izobražuje\, motivira in povezuje vrhunske strokovnjake na področju podpore menedžmentu – zvezde\, ki sijejo iz ozadja. Pridobili boste dragocena znanja\, ki vas bodo navdihnila\, motivirala ter opremila s potrebnimi veščinami za vaš uspeh in karierni napredek. Pridružite se nam in stopite v korak s strokovnjaki\, ki oblikujejo prihodnost!  \nLetošnji Posvet ADMA je v skladu z vodilom “Po moč znanja in veščine sodelovanja” namenjen vsem vedoželjnim\, ambicioznim in prilagodljivim strokovnjakom\, ki se zavedajo vrednosti vseživljenjskega učenja in hitrega vpeljevanja novosti v prakso. Na dvodnevnem izobraževalnem druženju boste pridobili nova znanja in izboljšali veščine na ključnih področjih delovanja podpornega menedžmenta: \n\nVODENJE: sodobno vodenje in prepoznavanje priložnosti. \nKOMUNICIRANJE: transformativna komunikacija ter gradnja mostov med ljudmi. \nUČINKOVITOST: podjetniški pristop k delu\, ustvarjalnost in izboljšave za konkurenčno prednost. \nRAČUNALNIŠKA PISMENOST: uporaba najnovejših orodij za delo in izkoristek umetne inteligence. \nOBVLADOVANJE STRESA: ravnovesje uma\, telesa in duha ter soočanje s stresom. \n\nDobrodošli v svetu aha trenutkov in novih dimenzij razmišljanja!  \n\nDeli z drugimi:
URL:https://racunalniske-novice.com/dogodek/posvet-adma-3/
LOCATION:Hotel Habakuk\, Pohorska ulica 59\, Maribor\, 2000\, Slovenija
CATEGORIES:Dogodki
ATTACH;FMTTYPE=image/jpeg:https://racunalniske-novice.com/wp-content/uploads/2023/12/Zajeta-slika-4.jpg
ORGANIZER;CN="PLANET%20GV%20d.o.o.":MAILTO:izobrazevanje@planetgv.si
END:VEVENT
END:VCALENDAR