BEGIN:VCALENDAR
VERSION:2.0
PRODID:-//Računalniške novice - ECPv5.11.0//NONSGML v1.0//EN
CALSCALE:GREGORIAN
METHOD:PUBLISH
X-ORIGINAL-URL:https://racunalniske-novice.com
X-WR-CALDESC:Events for Računalniške novice
BEGIN:VTIMEZONE
TZID:Europe/Ljubljana
BEGIN:DAYLIGHT
TZOFFSETFROM:+0100
TZOFFSETTO:+0200
TZNAME:CEST
DTSTART:20250330T010000
END:DAYLIGHT
BEGIN:STANDARD
TZOFFSETFROM:+0200
TZOFFSETTO:+0100
TZNAME:CET
DTSTART:20251026T010000
END:STANDARD
END:VTIMEZONE
BEGIN:VEVENT
DTSTART;TZID=Europe/Ljubljana:20250327T100000
DTEND;TZID=Europe/Ljubljana:20250327T110000
DTSTAMP:20260425T134241
CREATED:20250207T133031Z
LAST-MODIFIED:20250207T133031Z
UID:2573280-1743069600-1743073200@racunalniske-novice.com
SUMMARY:Označevanje škatel in transportnih enot
DESCRIPTION:Na tretjem seminarju Akademije GS1 Slovenija boste izvedeli\, kakšna so priporočila za označevanje škatel in palet ter posebnosti pri izdelavi in namestitvi logistične nalepke. \nPredstavili bomo načine označevanja različnih logističnih enot ter uporabo atributivnih podatkov. \nDeli z drugimi:
URL:https://racunalniske-novice.com/dogodek/oznacevanje-skatel-in-transportnih-enot-2/
LOCATION:ON – LINE
CATEGORIES:Dogodki
ATTACH;FMTTYPE=image/png:https://racunalniske-novice.com/wp-content/uploads/2025/02/93.png
ORGANIZER;CN="GS1%20Slovenija":MAILTO:akademija@gs1si.org
END:VEVENT
END:VCALENDAR