BEGIN:VCALENDAR
VERSION:2.0
PRODID:-//Računalniške novice - ECPv5.11.0//NONSGML v1.0//EN
CALSCALE:GREGORIAN
METHOD:PUBLISH
X-ORIGINAL-URL:https://racunalniske-novice.com
X-WR-CALDESC:Events for Računalniške novice
BEGIN:VTIMEZONE
TZID:Europe/Ljubljana
BEGIN:DAYLIGHT
TZOFFSETFROM:+0100
TZOFFSETTO:+0200
TZNAME:CEST
DTSTART:20250330T010000
END:DAYLIGHT
BEGIN:STANDARD
TZOFFSETFROM:+0200
TZOFFSETTO:+0100
TZNAME:CET
DTSTART:20251026T010000
END:STANDARD
END:VTIMEZONE
BEGIN:VEVENT
DTSTART;VALUE=DATE:20250922
DTEND;VALUE=DATE:20250925
DTSTAMP:20260421T064855
CREATED:20241211T112112Z
LAST-MODIFIED:20241211T112112Z
UID:2563514-1758499200-1758758399@racunalniske-novice.com
SUMMARY:NT konferenca 2025
DESCRIPTION:Komaj že čakate\, da se spet srečamo v Grand Hotelu Bernardin in skupaj zaokrožimo še eno nepozabno NT konferenco\, že 30. zaporedno. \nSe vidimo od 22. – 24. septembra 2025. Ko boste ponovno ugledali neskončni portoroški horizont\, ki nam ob koncu izčrpnih predavanj postreže s čudovitim sončnim zahodom. V družbi sodelavcev\, znancev\, kolegov\, predavateljev\, idolov in novih obrazov s katerimi boste morda ustvarjali velike zgodbe. \nNAJVEČJI SLOVENSKI TEHNOLOŠKO-POSLOVNI DOGODEK \nStik sodobne\, tehnološke\, poslovne in marketinške odličnosti \n\nPovezovanje in prepletanje znanja\, izkušenj in poslovnih priložnosti\nNajboljše rešitve za nadgradnjo vašega obstoječega poslovanja\nStičišče vodilnih predstavnikov in strokovnjakov na področju tehnologije in poslovanja\nPriložnost osebnega napredka in poslovne rasti\nNajprimernejše okolje za učinkovito povezovanje\, poslovne sestanke in sproščeno druženje s partnerji\n\nVRHUNSKA STROKOVNA VSEBINA \nIzpopolnite svoje znanje in izboljšajte svoje veščine \n\nODKRIJTE poglobljene vpoglede v aktualne trende in smernice za prihodnost\nSPOZNAJTE novosti na področju tehnologije in poslovanja\nOSVOJITE praktično znanje in si poglejte najnovejše primere dobrih praks\nPRIDRUŽITE SE le najboljšim strokovnjakom z različnih področij\nDRUŽITE SE s celotno slovensko IT skupnostjo in poslovno javnostjo na enem mestu\n\nUČINKOVITO POVEZOVANJE\, MREŽENJE IN SKLEPANJE POSLOV \nSpoznajte prave ljudi in uspešne poslovne partnerje \n\nPOVEŽITE SE s posamezniki in podjetji iz vaše stroke\nSREČAJTE SE na poslovnih sestankih in sproščenih druženjih\nPOSVETUJTE SE s predavatelji in ostalimi udeleženci dogodka\nSPOZNAJTE SE in ustvarite nove povezave\nSKLENITE POSLE in ustvarite še boljše in uspešnejše zgodbe\n\n\nDeli z drugimi:
URL:https://racunalniske-novice.com/dogodek/nt-konferenca-2025/
LOCATION:Grand hotel Bernardin\, Obala 2\, Portorož\, 6320\, Slovenija
CATEGORIES:Dogodki
ATTACH;FMTTYPE=image/jpeg:https://racunalniske-novice.com/wp-content/uploads/2024/12/ntk.jpg
ORGANIZER;CN="MPG%20PLUS%20d.o.o.":MAILTO:info@ntk.si
END:VEVENT
END:VCALENDAR