BEGIN:VCALENDAR
VERSION:2.0
PRODID:-//Računalniške novice - ECPv5.11.0//NONSGML v1.0//EN
CALSCALE:GREGORIAN
METHOD:PUBLISH
X-ORIGINAL-URL:https://racunalniske-novice.com
X-WR-CALDESC:Events for Računalniške novice
BEGIN:VTIMEZONE
TZID:Europe/Ljubljana
BEGIN:DAYLIGHT
TZOFFSETFROM:+0100
TZOFFSETTO:+0200
TZNAME:CEST
DTSTART:20250330T010000
END:DAYLIGHT
BEGIN:STANDARD
TZOFFSETFROM:+0200
TZOFFSETTO:+0100
TZNAME:CET
DTSTART:20251026T010000
END:STANDARD
END:VTIMEZONE
BEGIN:VEVENT
DTSTART;TZID=Europe/Ljubljana:20250508T080000
DTEND;TZID=Europe/Ljubljana:20250509T160000
DTSTAMP:20260424T023243
CREATED:20250219T120619Z
LAST-MODIFIED:20250219T135436Z
UID:2575586-1746691200-1746806400@racunalniske-novice.com
SUMMARY:Nabavna konferenca 2025
DESCRIPTION:Nabavna konferenca je priložnost za vse\, ki verjamejo v moč nenehnih izboljšav\, inovacij in trajnostnega razvoja v nabavi. Poudarek bo na razumevanju vpliva globalnih trendov na nabavo\, od makroekonomskih vprašanj do okoljskih izzivov. Razpravljali bomo o ključnih vidikih trajnostnega poslovanja in kako se soočiti z izzivi mednarodnega poslovanja\, vključno s carinami\, logistiko in nearshoring modeli. \nZa slogan smo izbrali ”Trajnostno\, inovativno\, povezovalno”\, kar odraža ključna načela in usmeritve sodobnega nabavnega poslovanja ter strateške izzive\, s katerimi se sooča gospodarstvo. Dotaknili se bomo seveda tudi pametne digitalizacije z umetno inteligenco\, kjer bomo raziskovali tako priložnosti kot tudi nevarnosti\, ki jih prinaša. Programu bo vključeval teme voditeljstva in kompetenc v nabavi\, kajti uspeh v nabavi zahteva več kot le tehnično znanje. \nNaše poslanstvo je omogočanje prostora za deljenje znanj in izkušenj\, kjer bomo strokovnjaki v nabavi delili in raziskovali nove ideje ter pristope za ustvarjanje vrednosti v nabavi. Pridružite se nam na tem osrednjem dogodku leta v nabavi\, kjer boste lahko slišali primere dobrih praks\, spoznali vodilne strokovnjake in razširili svoje znanje ter mrežo kontaktov. Sodelujete pri oblikovanju nabave prihodnosti. \nDeli z drugimi:
URL:https://racunalniske-novice.com/dogodek/nabavna-konferenca-2025/
LOCATION:Grand hotel Bernardin\, Obala 2\, Portorož\, 6320\, Slovenija
CATEGORIES:Dogodki
ATTACH;FMTTYPE=image/png:https://racunalniske-novice.com/wp-content/uploads/2025/02/NK25_OG-Image_1200x630px-SLO.png
ORGANIZER;CN="PLANET%20GV%20d.o.o.":MAILTO:izobrazevanje@planetgv.si
END:VEVENT
END:VCALENDAR