BEGIN:VCALENDAR
VERSION:2.0
PRODID:-//Računalniške novice - ECPv5.11.0//NONSGML v1.0//EN
CALSCALE:GREGORIAN
METHOD:PUBLISH
X-ORIGINAL-URL:https://racunalniske-novice.com
X-WR-CALDESC:Events for Računalniške novice
BEGIN:VTIMEZONE
TZID:Europe/Ljubljana
BEGIN:DAYLIGHT
TZOFFSETFROM:+0100
TZOFFSETTO:+0200
TZNAME:CEST
DTSTART:20260329T010000
END:DAYLIGHT
BEGIN:STANDARD
TZOFFSETFROM:+0200
TZOFFSETTO:+0100
TZNAME:CET
DTSTART:20261025T010000
END:STANDARD
END:VTIMEZONE
BEGIN:VEVENT
DTSTART;TZID=Europe/Ljubljana:20260518T150000
DTEND;TZID=Europe/Ljubljana:20260518T173000
DTSTAMP:20260424T051219
CREATED:20260420T121135Z
LAST-MODIFIED:20260420T121135Z
UID:2664491-1779116400-1779125400@racunalniske-novice.com
SUMMARY:Menedžment uspešnosti posameznika in organizacije
DESCRIPTION:Kako razumemo razliko med učinkovitostjo in uspešnostjo? Kateri dejavniki danes resnično vplivajo na uspeh posameznika in organizacije? \nMenedžment uspešnosti predstavlja enega ključnih elementov delovanja tako v gospodarskih družbah kot tudi v javnih ustanovah. Gre za področje\, ki povezuje različna področja menedžmenta\, kot so podjetništvo\, strateški menedžment\, kakovost in organizacijsko vedenje. \nNa dogodku bomo uspešnost obravnavali kot dinamičen sistem medsebojno povezanih dejavnikov\, ki vplivajo na doseganje ciljev posameznikov in organizacij. \n🔍 Poseben poudarek bo na:\n• razumevanju vsebinskih in konceptualnih vidikov konstrukta učinkovitosti in uspešnosti\,\n• formuliranju ključnih dejavnikov uspešnosti posameznika in organizacije\,\n• kako primerjati dejavnike uspešnosti na različnih ravneh (od posameznika do sveta). \n📅 Datum: 18. 5. 2026\n🕒 Čas: 15:00 – 17:15\n💻 Lokacija: MS Teams\n👨‍🏫 Izvajalec: prof. dr. Mirko Markič \n📝 Prijava preko prijavnega obrazca https://shorturl.at/5uQ19 do vključno 17. 5. 2026. \nDeli z drugimi:
URL:https://racunalniske-novice.com/dogodek/menedzment-uspesnosti-posameznika-in-organizacije/
LOCATION:ON – LINE
CATEGORIES:Dogodki
ATTACH;FMTTYPE=image/jpeg:https://racunalniske-novice.com/wp-content/uploads/2026/04/Racunalniske-novice_dogodki_468x240_MeneUspesnosti.jpg
ORGANIZER;CN="FO%C5%A0%20-%20Fakulteta%20za%20organizacijske%20%C5%A1tudije%20v%20Novem%20mestu":MAILTO:arc@fos-unm.si
END:VEVENT
END:VCALENDAR