BEGIN:VCALENDAR
VERSION:2.0
PRODID:-//Računalniške novice - ECPv5.11.0//NONSGML v1.0//EN
CALSCALE:GREGORIAN
METHOD:PUBLISH
X-ORIGINAL-URL:https://racunalniske-novice.com
X-WR-CALDESC:Events for Računalniške novice
BEGIN:VTIMEZONE
TZID:Europe/Ljubljana
BEGIN:DAYLIGHT
TZOFFSETFROM:+0100
TZOFFSETTO:+0200
TZNAME:CEST
DTSTART:20260329T010000
END:DAYLIGHT
BEGIN:STANDARD
TZOFFSETFROM:+0200
TZOFFSETTO:+0100
TZNAME:CET
DTSTART:20261025T010000
END:STANDARD
END:VTIMEZONE
BEGIN:VEVENT
DTSTART;TZID=Europe/Ljubljana:20260525T160000
DTEND;TZID=Europe/Ljubljana:20260605T200000
DTSTAMP:20260422T054141
CREATED:20260417T073441Z
LAST-MODIFIED:20260417T073441Z
UID:2663623-1779724800-1780689600@racunalniske-novice.com
SUMMARY:Mednarodna poletna šola 2026: Learning Organisations in the 21st Century
DESCRIPTION:Kako postati organizacija\, ki se neprestano uči\, prilagaja in raste? \nPridružite se mednarodni Poletni šoli 2026: Learning Organisations in the 21st Century\, ki jo organizira Fakulteta za organizacijske študije v Novem mestu (FOŠ)\, Slovenija. Program bo v celoti izveden v angleškem jeziku in je namenjen vsem\, ki želijo pridobiti sodobna znanja s področja organizacijskega učenja\, razvoja in vodenja v globalnem okolju. \nV hitro spreminjajočem se svetu uspevajo organizacije\, ki se znajo učiti se\, prilagajati in razvijati skupne kompetence. Poletna šola temelji na konceptu učeče se organizacije\, kot ga je razvil Peter Senge\, ter raziskuje njegovo aktualnost in uporabo v 21. stoletju. \nSkozi šest interaktivnih srečanj v dveh tednih boste sodelovali v razpravah\, praktičnih vajah in refleksiji ter razvijali razumevanje ključnih principov učeče se organizacije. Program izvajajo predavatelji in mednarodni strokovnjaki iz prakse\, ki bodo delili resnične izkušnje iz javnega in zasebnega sektorja. \nPosebnost programa je izrazito praktičen pristop: udeleženci bodo razvijali konkretne akcijske načrte za implementacijo učeče se organizacije v svojem okolju – bodisi v podjetju\, študiju ali skupnosti. \nProgram vključuje: \n\nmednarodno učno okolje in sodelovanje z udeleženci z različnih področij\,\ndelo na realnih primerih organizacij\,\nrazvoj kritičnega razmišljanja in sistemskega pristopa\,\nkrepitev sodelovalnih in reflektivnih veščin\,\npridobivanje znanj\, neposredno uporabnih v praksi.\n\nV ospredju bo razumevanje petih disciplin učeče se organizacije: osebna odličnost\, mentalni modeli\, skupna vizija\, timsko učenje in sistemsko razmišljanje. \nProgram je namenjen vsem študentom ter tudi strokovnjakom\, ki želijo nadgraditi svoje znanje. Udeleženci prejmejo digitalno potrdilo o udeležbi\, z možnostjo pridobitve 6 ECTS točk ob uspešno opravljenem zaključnem portfoliju. \nTo ni le izobraževanje – je mednarodna izkušnja\, ki vas pripravi na izzive sodobnih organizacij. \nDeli z drugimi:
URL:https://racunalniske-novice.com/dogodek/mednarodna-poletna-sola-2026-learning-organisations-in-the-21st-century/
LOCATION:ON – LINE
CATEGORIES:Dogodki
ATTACH;FMTTYPE=image/jpeg:https://racunalniske-novice.com/wp-content/uploads/2026/04/Summer-School-2026-LO_Racunalniske-novice_2xPX.jpg
ORGANIZER;CN="FO%C5%A0%20-%20Fakulteta%20za%20organizacijske%20%C5%A1tudije%20v%20Novem%20mestu":MAILTO:arc@fos-unm.si
END:VEVENT
END:VCALENDAR