BEGIN:VCALENDAR
VERSION:2.0
PRODID:-//Računalniške novice - ECPv5.11.0//NONSGML v1.0//EN
CALSCALE:GREGORIAN
METHOD:PUBLISH
X-ORIGINAL-URL:https://racunalniske-novice.com
X-WR-CALDESC:Events for Računalniške novice
BEGIN:VTIMEZONE
TZID:Europe/Ljubljana
BEGIN:DAYLIGHT
TZOFFSETFROM:+0100
TZOFFSETTO:+0200
TZNAME:CEST
DTSTART:20230326T010000
END:DAYLIGHT
BEGIN:STANDARD
TZOFFSETFROM:+0200
TZOFFSETTO:+0100
TZNAME:CET
DTSTART:20231029T010000
END:STANDARD
END:VTIMEZONE
BEGIN:VEVENT
DTSTART;TZID=Europe/Ljubljana:20231019T100000
DTEND;TZID=Europe/Ljubljana:20231019T120000
DTSTAMP:20260420T123747
CREATED:20230915T053551Z
LAST-MODIFIED:20230915T055749Z
UID:2467646-1697709600-1697716800@racunalniske-novice.com
SUMMARY:Kava z GS1: Spoznajte RFID in EPCIS 2.0\, ključna gradnika interneta stvari in industrije 4.0
DESCRIPTION:Akademija GS1 Slovenija vabi na brezplačni dogodek z naslovom “Kava z GS1: Spoznajte RFID in EPCIS 2.0\, ključna gradnika interneta stvari in industrije 4.0”. Namenjen je predstavitvi najnovejših trendov in rešitev na področju RFID tehnologije\, ki omogoča sledljivost in optimizacijo poslovnih procesov v različnih panogah. Spoznali bomo tudi EPCIS 2.0\, novi standard za izmenjavo podatkov o gibanju in stanju izdelkov med deležniki v verigi. Gostili bomo strokovnjaki\, ki bodo delili svoje poglede in izkušnje na tem področju ter skupaj poskušali napovedati trende in razvoj teh tehnologij. \nPredavatelji: \n\nRoko Staničić\, GS1 Slovenija\nMarjan Kralj\, Trace BS\nAndrej Planina\, Špica International\nJurij Škornik\, Trace Labs – OriginTrail\ngost iz podjetja Leoss\n\nDeli z drugimi:
URL:https://racunalniske-novice.com/dogodek/kava-z-gs1-spoznajte-rfid-in-epcis-2-0-kljucna-gradnika-interneta-stvari-in-industrije-4-0/
LOCATION:ON – LINE
CATEGORIES:Webinar
ATTACH;FMTTYPE=image/png:https://racunalniske-novice.com/wp-content/uploads/2023/09/Kava-z-GS1-Spoznajte-RFID-in-EPCIS.png
ORGANIZER;CN="GS1%20Slovenija":MAILTO:akademija@gs1si.org
END:VEVENT
END:VCALENDAR