BEGIN:VCALENDAR
VERSION:2.0
PRODID:-//Računalniške novice - ECPv5.11.0//NONSGML v1.0//EN
CALSCALE:GREGORIAN
METHOD:PUBLISH
X-ORIGINAL-URL:https://racunalniske-novice.com
X-WR-CALDESC:Events for Računalniške novice
BEGIN:VTIMEZONE
TZID:Europe/Ljubljana
BEGIN:DAYLIGHT
TZOFFSETFROM:+0100
TZOFFSETTO:+0200
TZNAME:CEST
DTSTART:20250330T010000
END:DAYLIGHT
BEGIN:STANDARD
TZOFFSETFROM:+0200
TZOFFSETTO:+0100
TZNAME:CET
DTSTART:20251026T010000
END:STANDARD
END:VTIMEZONE
BEGIN:VEVENT
DTSTART;TZID=Europe/Ljubljana:20250417T093000
DTEND;TZID=Europe/Ljubljana:20250417T130000
DTSTAMP:20260423T214555
CREATED:20250326T124056Z
LAST-MODIFIED:20250326T131005Z
UID:2583382-1744882200-1744894800@racunalniske-novice.com
SUMMARY:Hornetsecurity dogodek
DESCRIPTION:Prvi Hornetsecurity partnerski dogodek pri nas – predstavili bomo najsodobnejše rešitve za kibernetsko varnost in odkrili nove poslovne priložnosti. Hornetsecurity je vodilni evropski ponudnik varnostnih rešitev v oblaku\, specializiran za zaščito e-pošte\, varnostno kopiranje podatkov in celovito IT-varnost. Z našimi inovativnimi rešitvami pomagamo podjetjem po vsem svetu zaščititi svoje podatke pred grožnjami\, kot so phishing\, ransomware in izguba podatkov. \nKaj pridobite z udeležbo na dogodku? \n🎯 Ekskluziven vpogled v trende kibernetske varnosti in rešitve Hornetsecurity\n🤝 Povezovanje z industrijskimi strokovnjaki in partnerji\n🚀 Nove poslovne priložnosti in konkurenčne prednosti \nDeli z drugimi:
URL:https://racunalniske-novice.com/dogodek/hornetsecurity-dogodek/
LOCATION:Restavracija Grof\, Vransko\, Čeplje 12\, Vransko\, 3305\, Slovenija
CATEGORIES:Dogodki
ATTACH;FMTTYPE=image/png:https://racunalniske-novice.com/wp-content/uploads/2025/04/ANNI-Vransko.png
ORGANIZER;CN="ANNI%20d.o.o.%20-%20Oddelek%20za%20kibernetsko%20varnost":MAILTO:tjasa.kernc@anni.si
END:VEVENT
END:VCALENDAR