BEGIN:VCALENDAR
VERSION:2.0
PRODID:-//Računalniške novice - ECPv5.11.0//NONSGML v1.0//EN
CALSCALE:GREGORIAN
METHOD:PUBLISH
X-ORIGINAL-URL:https://racunalniske-novice.com
X-WR-CALDESC:Events for Računalniške novice
BEGIN:VTIMEZONE
TZID:Europe/Ljubljana
BEGIN:DAYLIGHT
TZOFFSETFROM:+0100
TZOFFSETTO:+0200
TZNAME:CEST
DTSTART:20220327T010000
END:DAYLIGHT
BEGIN:STANDARD
TZOFFSETFROM:+0200
TZOFFSETTO:+0100
TZNAME:CET
DTSTART:20221030T010000
END:STANDARD
END:VTIMEZONE
BEGIN:VEVENT
DTSTART;TZID=Europe/Ljubljana:20220927T090000
DTEND;TZID=Europe/Ljubljana:20220929T180000
DTSTAMP:20260420T205340
CREATED:20220905T093325Z
LAST-MODIFIED:20220905T135803Z
UID:1783452-1664269200-1664474400@racunalniske-novice.com
SUMMARY:Festival za tretje življenjsko obdobje
DESCRIPTION:Festival za tretje življenjsko obdobje v letu 2022 obeležuje 21. obletnico svojega obstoja. Glede na težko leto\, zaznamovano z epidemijo\, optimistično zremo v prihodnost\, se veselimo in verjamemo da v letu 2022 izpeljemo 21. F3ŽO v najboljši luči in na ta način tudi proslavimo mednarodni dan starejših\, ki ga vsako leto slavimo 1. oktobra.\n \nVrata kulturnega hrama – Cankarjevega doma\, bodo ponovno brezplačno odprta tri dni\, od 27. do 29. septembra 2022. \nF3ŽO je največji festival za starejše v Evropi\, saj ga vsako leto obišče več tisoč obiskovalcev\, samo v letu 2019 se je festivala udeležilo več kot 17.500 obiskovalcev. V letu 2020 se zaradi vseh omejitev in prepovedi za izvedbo festivala nismo odločili\, saj sta nam zdravje obiskovalce in družbena odgovornost vedno na prvem mestu. \nFestival se po obsežnosti sodelujočih vsako leto krepi in nenehno razvija. V letu 2019 se je F3ŽO-ju pridružilo že več kot 160 razstavljavcev\, nastopilo je več kot 100 kulturnih točk ter ponudilo več kot 80 delavnic. \nFestival tako ponuja zanimive izobraževalne dogodke\,  polemične strokovne razprave in številne delavnice za vse generacije. Ne manjka pa niti bogat  kulturni program na različnih prizoriščih ter dobrodelna akcija. \nDeli z drugimi:
URL:https://racunalniske-novice.com/dogodek/festival-za-tretje-zivljenjsko-obdobje/
LOCATION:Cankarjev dom\, Prešernova cesta 10\, Ljubljana\, 1000\, Slovenija
CATEGORIES:Dogodki
ATTACH;FMTTYPE=image/png:https://racunalniske-novice.com/wp-content/uploads/2022/09/F3ZO22_Racunalniske_468-240_09-05.png
ORGANIZER;CN="Proevent%20d.o.o.":MAILTO:info@proevent.si
END:VEVENT
END:VCALENDAR