BEGIN:VCALENDAR
VERSION:2.0
PRODID:-//Računalniške novice - ECPv5.11.0//NONSGML v1.0//EN
CALSCALE:GREGORIAN
METHOD:PUBLISH
X-ORIGINAL-URL:https://racunalniske-novice.com
X-WR-CALDESC:Events for Računalniške novice
BEGIN:VTIMEZONE
TZID:Europe/Ljubljana
BEGIN:DAYLIGHT
TZOFFSETFROM:+0100
TZOFFSETTO:+0200
TZNAME:CEST
DTSTART:20240331T010000
END:DAYLIGHT
BEGIN:STANDARD
TZOFFSETFROM:+0200
TZOFFSETTO:+0100
TZNAME:CET
DTSTART:20241027T010000
END:STANDARD
END:VTIMEZONE
BEGIN:VEVENT
DTSTART;TZID=Europe/Ljubljana:20240410T090000
DTEND;TZID=Europe/Ljubljana:20240410T160000
DTSTAMP:20260421T210128
CREATED:20240322T080935Z
LAST-MODIFIED:20240322T080935Z
UID:2506902-1712739600-1712764800@racunalniske-novice.com
SUMMARY:Energetika in okolje ’24 | 13. Vrh zelene energetike
DESCRIPTION:Udeležite se zelo aktualnega Vrha zelene energetike\, ki vas seznanja z novostmi pospešenega uvajanja obnovljivih virov energije (OVE). \nKako bomo v Sloveniji lažje in hitreje dosegli uvajanje novih obnovljivih virov in s tem povezanih energetskih rešitev\, je eden izmed izzivov letošnjega Vrha. \nPravočasno se na Vrhu seznanite z novostmi OVE in priložnostmi vaše večje energetske odpornosti ter neodvisnosti v okoliščinah energetsko-podnebne disrupcije. \n\nNovosti OVE\, hranilniki in samooskrba\,\ntrajnostne strategije\, ESG in izzivi omrežij\,\nizzivi umeščanja v prostor.\n\nGovorci so že znani – vabljeni\, da na srečanju navežete nove poslovne stike in si zagotovite poslovno rast in razvoj: \n\n Bojan Kumer\, minister\, Ministrstvo za okolje\, podnebje in energijo\n Tomislav Tkalec\, vodja sektorja za obnovljive vire\, MOPE\n Miran Gajšek\, državni sektror\, Ministrstvo za naravne vire in prostor\n Tomaž Štokelj\, generalni direktor\, Holding slovenske elektrarne (HSE)\nUroš Blažica\, predsednik uprave\, Elektro Primorska in predsednik skupščine GIZ DEE\nMarjan Eberlinc\, generalni direktor\, Plinovodi\n Aleksander Mervar\, direktor\, ELES\n Ana Stanič\, direktorica\, E&A Law\nAnton Koselj\, podpredsednik\, Zveza društev MHE Slovenije\n Igor Steiner\, vodja oddelka Energetike in okolje\, INEA\n Vlasta Krmelj\, direktorica\, ENERGAP\n Marko Topič\, dekan in mednarodni ekspert za fotovoltaiko\, UL Fakulteta za elektrotehniko\nPrimož Flis\, vodja produktne hiše Heating & Cooling\, Resalta\nBlaž Jantol\, vodja poslovnega razvoja in komercialnih operacij\, Interenergo\n Damjan Seme\, generalni direktor\, DEM\nDavid Germovšek\, strokovnjak za samooskrbo\, GEN-I\nMladen Oljača\, strokovnjak za samooskrbo\, GEN-I\nin številni drugi.\n\nVrh zelene energetike je namenjen voditeljem iz energetike\, industrije\, energetskim in okoljskim strokovnjakom ter vsem\, ki se zavedajo nujnosti zelenega prehoda\, uvajanja obnovljivih virov energije in večanja neodvisnosti\, še zlasti v času radikalnih novih geopolitičnih razmer v Evropi. \nZagotovite si vaše mesto v družbi vodilnih energetikov\, predstavnikov industrije in okoljskih strokovnjakov. \nDeli z drugimi:
URL:https://racunalniske-novice.com/dogodek/energetika-in-okolje-24-13-vrh-zelene-energetike/
LOCATION:Kongresni center Brdo pri Kranju\, Kongresni center Brdo pri Kranju\, 4000\, Slovenija
CATEGORIES:Dogodki
ATTACH;FMTTYPE=image/png:https://racunalniske-novice.com/wp-content/uploads/2024/03/Prosperia_Energetika_in_okolje_24_Racunalniske_novice_Prikazna_slika.png
ORGANIZER;CN="Prosperia%2C%20d.%20o.%20o.":MAILTO:info@prosperia.si
END:VEVENT
END:VCALENDAR