BEGIN:VCALENDAR
VERSION:2.0
PRODID:-//Računalniške novice - ECPv5.11.0//NONSGML v1.0//EN
CALSCALE:GREGORIAN
METHOD:PUBLISH
X-ORIGINAL-URL:https://racunalniske-novice.com
X-WR-CALDESC:Events for Računalniške novice
BEGIN:VTIMEZONE
TZID:Europe/Ljubljana
BEGIN:DAYLIGHT
TZOFFSETFROM:+0100
TZOFFSETTO:+0200
TZNAME:CEST
DTSTART:20240331T010000
END:DAYLIGHT
BEGIN:STANDARD
TZOFFSETFROM:+0200
TZOFFSETTO:+0100
TZNAME:CET
DTSTART:20241027T010000
END:STANDARD
END:VTIMEZONE
BEGIN:VEVENT
DTSTART;TZID=Europe/Ljubljana:20240527T090000
DTEND;TZID=Europe/Ljubljana:20240529T170000
DTSTAMP:20260423T004629
CREATED:20240427T124548Z
LAST-MODIFIED:20240427T124548Z
UID:2514940-1716800400-1717002000@racunalniske-novice.com
SUMMARY:DynamicsMinds 2024
DESCRIPTION:DynamicsMinds 2024\, ena največjih evropskih konferenc\, posvečenih rešitvama Microsoft Dynamics 365 in Power Platform\, bo potekala v Sloveniji  \nNa drugi konferenci\, ki se bo odvijala od 27. do 29..maja v Portorožu\, se bo zbralo več kot 1000 članov skupnosti\, ki sooblikuje prihodnost poslovnih aplikacij. \nNa konferenci DynamicsMinds\, enem največjih evropskih srečanj mednarodnih strokovnjakov in uporabnikov rešitev Microsoft Dynamics 365 in Power Platform\, se bo od 27. do 29. maja v Portorožu že drugič zbralo več kot 1000 udeležencev. \nTridnevna konferenca bo postregla z več kot 150 predavanji in delavnicami\, razdeljenimi v 5 vsebinskih sklopov: Finance and Operations\, Business Central\, Customer Engagement\, Power Platform in peti sklop\, ki bo združeval srečanja\, posvečena poslovanju\, raznolikosti\, vključevanju in osebni rasti. Vsebine za strokovno javnost bodo vključevale okrogle mize\, praktične prikaze in predavanja. Vse vsebine bodo v angleščini. \nLetošnji program bo gostil vrsto vrhunskih mednarodnih predavateljev. Dona Sarkar v Portorož prihaja z Microsoftovega sedeža v Redmondu. Donin cilj je\, da kot glavna nadloga (Chief Troublemaker) Microsoftovega programa razširljivosti umetne inteligence in rešitev Copilot uporabnikom po vsem svetu omogoči\, da s pomočjo Microsoftovih programov umetne inteligence in Copilot analizirajo svoje podatke in umetno inteligenco resnično koristno uporabijo pri svojem poslovanju. Na konferenci DynamicsMinds bo predavala ter sodelovala na srečanju Vprašaj strokovnjake o rešitvi Copilot\, prav tako pa bo tudi del uvodnega nagovora. Norveška strokovnjakinja Malin Martnes z nazivoma MVP in Microsoft Certified Trainer ima več kot 10 let izkušenj na področju rešitev Dynamics in Power Platform. Na dogodku bo imela predavanje o trženjskem orodju Dynamics 365 Customer Insights – Journeys. Steve Mordue (Forceworks in RapidStart CRM)\, osemkratni prejemnik naziva MVP za Microsoftove poslovne aplikacije in član Microsoftovega partnerskega posvetovalnega odbora za rešitve Dynamics 365\, je izkušen strokovnjak\, ki rad razpravlja o tem\, kako lahko poslovne aplikacije pomagajo reševati poslovne težave. Na konferenci bo sodeloval na okrogli mizi o najpomembnejših temah leta. Chris Huntingford (ANS Group) pravi\, da je velik ljubitelj tehnologije in obožuje koncept preobrazbe na presenetljiv ali čaroben način. Pri svojem delu se osredotoča predvsem na platformo Microsoft Power Platform. V Portorožu bo imel skupno predavanje z Dono Sarkar in sodeloval na dveh srečanjih Vprašaj strokovnjake. \nTo je le nekaj izmed več kot 170 mednarodnih predavateljev\, ki sodijo med najbolj vplivne in ugledne strokovnjaki za rešitve Dynamics in Power Platform. Več kot 40 predavateljev ima naziv Microsoft MVP\, kar odraža njihovo izjemno strokovnost. \nKonferenca DynamicsMinds je odlična priložnost za srečanje in povezovanje z vplivnimi posamezniki\, navdušenci in strokovnjaki za Microsoftove poslovne aplikacije\, udeleženci pa lahko predstavijo tudi svoje ideje in sodelujejo v razpravah. Nudi odlično priložnost za pogovor s strokovnjaki in iskanje rešitev za izzive\, s katerimi se udeleženci morda srečujejo pri svojem delu. Prav tako pa imajo vsi možnost\, da prispevajo k skupnemu znanju na teh področjih. Na konferenci se bodo udeleženci srečali z Microsoftovimi partnerji in izvedeli več o njihovih storitvah ter pridobili najnovejše informacije o Microsoftovi strategiji za rešitvi Dynamics 365 in Power Platform\, ki bodo koristile njihovemu poslovanju. \nKonferenco organizira hitro rastoče slovensko tehnološko podjetje Docentric v sodelovanju s skupnostjo strokovnjakov in uporabnikov rešitev Dynamics. \nDeli z drugimi:
URL:https://racunalniske-novice.com/dogodek/dynamicsminds-2024/
LOCATION:Grand hotel Bernardin\, Obala 2\, Portorož\, 6320\, Slovenija
CATEGORIES:Dogodki
ATTACH;FMTTYPE=image/jpeg:https://racunalniske-novice.com/wp-content/uploads/2024/04/dym.jpg
ORGANIZER;CN="DOCENTRIC%20d.o.o.":MAILTO:lara.vodlan@docentric.com
END:VEVENT
END:VCALENDAR