BEGIN:VCALENDAR
VERSION:2.0
PRODID:-//Računalniške novice - ECPv5.11.0//NONSGML v1.0//EN
CALSCALE:GREGORIAN
METHOD:PUBLISH
X-ORIGINAL-URL:https://racunalniske-novice.com
X-WR-CALDESC:Events for Računalniške novice
BEGIN:VTIMEZONE
TZID:Europe/Ljubljana
BEGIN:DAYLIGHT
TZOFFSETFROM:+0100
TZOFFSETTO:+0200
TZNAME:CEST
DTSTART:20260329T010000
END:DAYLIGHT
BEGIN:STANDARD
TZOFFSETFROM:+0200
TZOFFSETTO:+0100
TZNAME:CET
DTSTART:20261025T010000
END:STANDARD
END:VTIMEZONE
BEGIN:VEVENT
DTSTART;TZID=Europe/Ljubljana:20260414T080000
DTEND;TZID=Europe/Ljubljana:20260415T180000
DTSTAMP:20260422T001417
CREATED:20260105T141852Z
LAST-MODIFIED:20260106T083010Z
UID:2637645-1776153600-1776276000@racunalniske-novice.com
SUMMARY:Dnevi slovenske informatike 2026
DESCRIPTION:Vabimo vas\, da si v svojem koledarju rezervirate čas in se nam pridružite na 33. konferenci Dnevi slovenske informatike\, ki bo potekala 14. in 15. aprila 2026.  \nTokrat bomo razpravljali o digitalni družbi\, ki stoji na razpotju med hitrim tehnološkim razvojem in vse bolj kompleksnim regulativnim okoljem. Kako najti pravo ravnotežje med inovacijami in odgovornostjo? Kako lahko regulacija spodbuja\, namesto omejuje napredek? \nTema konference – »Digitalna družba na razpotju: ko se srečata regulacija in inovacija« – nas vabi k premisleku\, kako uskladiti tehnološki napredek\, varnost\, zasebnost\, etiko in trajnost. Skupaj bomo iskali poti\, po katerih digitalna preobrazba ostaja gonilo razvoja\, a hkrati temelji na zaupanju\, odgovornosti in vključevanju vseh. Stopimo skupaj\, da ustvarimo prihodnost\, v kateri se inovacija in regulacija ne izključujeta\, temveč dopolnjujeta – za dobrobit posameznika\, družbe in gospodarstva. \nVabljeni\, da se nam pridružite kot avtor prispevka ali pa si povečate prepoznavnost podjetja kot sponzor. \nLetos se bomo še bolj potrudili\, da bomo tesno povezali gospodarstvo\, javni sektor\, študente in odlične v znanosti. V okviru rdeče niti konference »Digitalna družba na razpotju: ko se srečata regulacija in inovacija« želimo izpostaviti predvsem naslednje sklope: \n\nHands-on delavnice na temo superračunalništva in umetne inteligence.\nŠtudentski HackathON z Arnesom in ekipo OPSI.\nPredkonferenčni dogodek za odločevalce v IT.\nMreženja med študenti\, državno upravo in gospodarstvom.\nSejem s stojnicami in rezultati odličnih v znanosti za produktivizacijo v gospodarstvu v obliki DEMO prikazov ali prototipov.\nNatečaj DigiNagrada 2026 za najboljšo povezovalno IT rešitev z upoštevanjem Digitalnega kompasa.\n\nVeč informacij o konferenci najdete na spletni strani: https://dsi2026.dsi-konferenca.si/ \nDeli z drugimi:
URL:https://racunalniske-novice.com/dogodek/dnevi-slovenske-informatike-2026/
LOCATION:Grand hotel Bernardin\, Obala 2\, Portorož\, 6320\, Slovenija
CATEGORIES:Dogodki
ATTACH;FMTTYPE=image/jpeg:https://racunalniske-novice.com/wp-content/uploads/2026/01/DSI2026-baner-FB.jpg
ORGANIZER;CN="Slovensko%20dru%C5%A1tvo%20informatika%20-%20SDI":MAILTO:dsi@drustvo-informatika.si
END:VEVENT
END:VCALENDAR