BEGIN:VCALENDAR
VERSION:2.0
PRODID:-//Računalniške novice - ECPv5.11.0//NONSGML v1.0//EN
CALSCALE:GREGORIAN
METHOD:PUBLISH
X-ORIGINAL-URL:https://racunalniske-novice.com
X-WR-CALDESC:Events for Računalniške novice
BEGIN:VTIMEZONE
TZID:Europe/Ljubljana
BEGIN:DAYLIGHT
TZOFFSETFROM:+0100
TZOFFSETTO:+0200
TZNAME:CEST
DTSTART:20230326T010000
END:DAYLIGHT
BEGIN:STANDARD
TZOFFSETFROM:+0200
TZOFFSETTO:+0100
TZNAME:CET
DTSTART:20231029T010000
END:STANDARD
END:VTIMEZONE
BEGIN:VEVENT
DTSTART;TZID=Europe/Ljubljana:20231023T110000
DTEND;TZID=Europe/Ljubljana:20231026T140000
DTSTAMP:20260424T095638
CREATED:20230921T111017Z
LAST-MODIFIED:20230921T111017Z
UID:2470392-1698058800-1698328800@racunalniske-novice.com
SUMMARY:DigiMeet 2023 // Središče digitalizacije so ljudje
DESCRIPTION:Med 23. in 26. oktobrom 2023 potekajo sedaj že tradicionalni digitalni dnevi DigiMeet podjetja Mikrocop. Dogodek združuje brezplačna srečanja\, ki bodo potekala on-line\, na katerih lahko prisluhnete primerom iz prakse strank različnih velikosti in panog. \nNa treh spletnih seminarjih\, ki bodo potekali od ponedeljka do srede\, vas čakajo zanimivi gostje\, ki bodo z vami delili izkušnje\, poslovne prakse in ideje za uspešno digitalno poslovanje. \nPridružite se in ne zamudite zanimivih vsebin\, ki jih pripravljajo za vas! \nDogodek se bo zaključil z okroglo mizo z Olimpijkami: Brez prave ekipe ni rezultatov\, na kateri bodo z vami svoje zgodbe delile Brigita Bukovec\, Urška Žolnir Jugovar in Petra Majdič. \nBodite del uspešnih digitalnih zgodb! \nBREZPLAČNA PRIJAVA: https://bit.ly/3EHqNLr \nPROGRAM: \nPONEDELJEK // 23. 10. 2023\, 11.00-12.00\nUvodni pozdrav – Simona Kogovšek\, direktorica\, Mikrocop\nNa prvem mestu smo ljudje: Učinkovita orodja za lažje delo – Nataša Centa\, strokovnjakinja za digitalizacijo kadrovskega poslovanja\, Mikrocop // Ksenija Montani\, pomočnica direktorja za področje informatike in tehnologije\, Lekarna Ljubljana \nTOREK // 24. 10. 2023\, 11.00-12.00\nOd točke A do točke B hitreje z digitaliziranimi procesi – Anton Gazvoda\, strokovnjak za\ndigitalizacijo poslovanja\, Mikrocop // Boštjan Blokar\, strokovnjak za IT področje\, Luka Koper \nSREDA // 25. 10. 2023\, 11.00-12.00\nDinamično sodelovanje v digitalni dobi z brezplačnim preizkusom- Ivo Vasev\, produktni\nvodja InDoc EDGE\, Karmen Jakob Logar\, ekspert za produktni marketing\, Mikrocop //\nDamijan Zalokar\, direktor\, MK Illumination \nČETRTEK // 26. 10. 2023\, 13.00-14.00\nZaključni nagovor – Tjaša Poljšak\, direktorica prodaje in trženja\, Mikrocop\nOkrogla miza z Olimpijkami: Brez prave ekipe ni rezultatov \nGostje: Brigita Bukovec\, atletika // Urška Žolnir Jugovar\, judo // Petra Majdič\, smučarski teki // Alenka Fic Mikolič\, direktorica splošnih zadev Mikrocop\nModerator: Matej Praprotnik\, novinar Radio Slovenija in »kolesarski župan Ljubljane«. \nPrijavite se lahko na posamična srečanja ali vsa hkrati. \n\nDeli z drugimi:
URL:https://racunalniske-novice.com/dogodek/digimeet-2023-sredisce-digitalizacije-so-ljudje/
LOCATION:ON – LINE
CATEGORIES:Webinar
ATTACH;FMTTYPE=image/jpeg:https://racunalniske-novice.com/wp-content/uploads/2023/09/DM23-cover-scaled.jpg
ORGANIZER;CN="Mikrocop%20d.o.o.":MAILTO:barbara.boldin@mikrocop.com
END:VEVENT
END:VCALENDAR