BEGIN:VCALENDAR
VERSION:2.0
PRODID:-//Računalniške novice - ECPv5.11.0//NONSGML v1.0//EN
CALSCALE:GREGORIAN
METHOD:PUBLISH
X-ORIGINAL-URL:https://racunalniske-novice.com
X-WR-CALDESC:Events for Računalniške novice
BEGIN:VTIMEZONE
TZID:Europe/Ljubljana
BEGIN:DAYLIGHT
TZOFFSETFROM:+0100
TZOFFSETTO:+0200
TZNAME:CEST
DTSTART:20240331T010000
END:DAYLIGHT
BEGIN:STANDARD
TZOFFSETFROM:+0200
TZOFFSETTO:+0100
TZNAME:CET
DTSTART:20241027T010000
END:STANDARD
END:VTIMEZONE
BEGIN:VEVENT
DTSTART;TZID=Europe/Ljubljana:20240918T180000
DTEND;TZID=Europe/Ljubljana:20240918T230000
DTSTAMP:20260423T082154
CREATED:20240820T061738Z
LAST-MODIFIED:20240820T061738Z
UID:2538926-1726682400-1726700400@racunalniske-novice.com
SUMMARY:1. Prodajni Mindset dogodek v Sloveniji
DESCRIPTION:Prodajni Mindset prihaja v Slovenijo: Prvi dogodek 18. septembra v Ljubljani \nPo izjemnem uspehu na Hrvaškem\, kjer je dogodek “Wolf Strikes Again” z gostovanjem Jordana Belforta navdušil poslovno javnost\, v Slovenijo prihaja koncept Prodajni Mindset. Prvi dogodek bo potekal 18. septembra 2024 v Ljubljani\, kjer bo slovenska ekipa predstavila ta inovativni model izobraževanja\, mreženja in zabave. \nKaj je Prodajni Mindset? \nProdajni Mindset je edinstven koncept\, ki združuje vrhunska predavanja\, strokovne informacije\, dobre prakse in neprecenljive priložnosti za mreženje v sproščenem vzdušju. Zasnovan je za tiste\, ki želijo izboljšati svoje prodajne veščine in okrepiti poslovne odnose. Gre za izobraževalni dogodek\, ki mu dodajo še ščepec zabave\, s čimer ustvarjajo “edutainment” – kombinacijo izobraževanja\, zabave in druženja. \nNa prvem Prodajnem Mindsetu v Sloveniji bodo nastopili številni priznani strokovnjaki. Med njimi: \nGregor Kosi\, nekdanji generalni direktor Lidla Slovenija in ustanovitelj svetovalnega podjetja GREAT Leadership Solutions\, bo delil svoje bogate izkušnje iz področja poslovne odličnosti in razvoja voditeljskih veščin. \nAljaž Peklaj\, ustanovitelj agencije Bold.group in podjetja Grou\, ki je specializirano za širjenje poslovanja na mednarodne trge\, bo govoril o pomembnosti gradnje blagovnih znamk in izkoriščanju digitalnih kanalov za poslovni uspeh. \nSaša Tenodi\, licencirani NLP trener in soustanovitelj Prodajnega Mindseta\, bo predstavil svoje izkušnje s komunikacijo in izobraževalnimi podcasti\, ki jih posluša na tisoče ljudi. \nVedran Sorić\, prodajni svetovalec in motivacijski govornik\, ki je soustanovil Prodajni Mindset\, bo z udeleženci delil nasvete za izboljšanje prodajnih strategij in povečanje uspeha na trgu. \nEkskluzivna priložnost za rast in mreženje \nDogodek bo prava priložnost za vse\, ki želijo poglobiti svoje prodajne veščine in se povezati z drugimi strokovnjaki iz različnih industrij. Organizatorji obljubljajo sproščeno vzdušje z hrano in pijačo\, vključeno v ceno vstopnice\, ter vrsto priložnosti za mreženje v prijetnem okolju. \nVstopnice že na voljo \nVstopnice so na voljo\, vendar pohitite – število kart je omejeno in mesta se hitro polnijo! Redna cena vstopnice je 98 EUR + DDV. Za več informacij in nakup vstopnic obiščite našo spletno stran prodajnimindset.si/prijavi-se \nDeli z drugimi:
URL:https://racunalniske-novice.com/dogodek/1-prodajni-mindset-dogodek-v-sloveniji/
LOCATION:Grand Plaza Hotel\, Slovenska cesta 60\, Ljubljana\, 1000\, Slovenija
CATEGORIES:Dogodki
ATTACH;FMTTYPE=image/png:https://racunalniske-novice.com/wp-content/uploads/2024/08/Rač-novice-468-x-240-pik.png
ORGANIZER;CN="Kaktus%20komunikacije%20d.o.o.":MAILTO:info@prodajnimindset.si
END:VEVENT
END:VCALENDAR